BEGIN:VCALENDAR
VERSION:2.0
PRODID:
BEGIN:VEVENT
UID:242560mb
DTSTAMP:20260420T202902Z
DTSTART:20260511T170000Z
DTEND:20260512T004100Z
LOCATION: Your Desk
SUMMARY: Multistate Taxation - Issues and Planning Opportunities WEBCAST
DESCRIPTION: Learn about crucial topics like nexus implications\, state taxable income calculations\, and audit defense strategies. Gain practical insights to integrate these considerations into client financial plans effectively. From deciphering complex formulas to understanding state-specific regulations\, this course equips you with actionable knowledge to excel in finance. Explore multistate business activities\, choice of business entity\, and interstate commerce clauses. By course completion\, you'll be ready to identify common pitfalls\, mitigate risks\, and ensure compliance with multistate taxation. Join us and navigate the complexities of finance confidently.
CLASS:PUBLIC
END:VEVENT
END:VCALENDAR
