BEGIN:VCALENDAR
VERSION:2.0
PRODID:
BEGIN:VEVENT
UID:242564mb
DTSTAMP:20260423T171137Z
DTSTART:20260512T140000Z
DTEND:20260512T160000Z
LOCATION: Your Desk
SUMMARY: Budget Mastery: Walkthroughs and Real World Calculations Towards Tying Budgets To Value WEBCAST
DESCRIPTION: This session takes a unique review of the fundamental budget issues faced by all and walks through a detailed modeling process intended to generate discussion and best practices to improve your organization's financial modeling. You will review the budgeting cycle from beginning to end\, via a live case model to learn best practices common to successful companies.
CLASS:PUBLIC
END:VEVENT
END:VCALENDAR
