BEGIN:VCALENDAR
VERSION:2.0
PRODID:
BEGIN:VEVENT
UID:242568mb
DTSTAMP:20260425T040300Z
DTSTART:20260512T200000Z
DTEND:20260512T220000Z
LOCATION: Your Desk
SUMMARY: Mergers and Acquisitions: Complete Guide to Relevant Issues WEBCAST
DESCRIPTION: This course will provide financial professionals with the information their teams will need to successfully plan and execute mergers and acquisitions.
CLASS:PUBLIC
END:VEVENT
END:VCALENDAR
