BEGIN:VCALENDAR
VERSION:2.0
PRODID:
BEGIN:VEVENT
UID:242570mb
DTSTAMP:20260422T193311Z
DTSTART:20260513T180000Z
DTEND:20260513T194900Z
LOCATION: Your Desk
SUMMARY: Cash Management: Strategies for Long-Term Success WEBCAST
DESCRIPTION: Many finance departments spend considerable time managing cash\, particularly if the organization is highly leveraged or cash rich. Many opportunities exist to reduce your financing costs or increase short-term cash returns if you manage cash effectively. This session will cover a wide variety of day-to-day cash management tools. \n  \nNOTE: This course is not applicable for the Season Ticket\n 
CLASS:PUBLIC
END:VEVENT
END:VCALENDAR
