BEGIN:VCALENDAR
VERSION:2.0
PRODID:
BEGIN:VEVENT
UID:242617mb
DTSTAMP:20260420T113531Z
DTSTART:20260523T170000Z
DTEND:20260523T210000Z
LOCATION: Your Desk
SUMMARY: Effective Coaching Strategies for High Performance WEBCAST
DESCRIPTION: This business coaching course is designed to enhance your coaching effectiveness by integrating innovative tools like ChatGPT to support and elevate your coaching practice. You'll explore the key differences and similarities between coaching and managing\, uncover the most important skill every coach should master\, and learn how to get to the root cause of any problem. With hands-on coaching strategies\, including neuro-linguistic programming (NLP) techniques\, you'll enhance your ability to drive results. Additionally\, you'll discover how to use performance gap analysis to identify and bridge gaps\, ensuring the success and growth of the individuals you coach.
CLASS:PUBLIC
END:VEVENT
END:VCALENDAR
