BEGIN:VCALENDAR
VERSION:2.0
PRODID:
BEGIN:VEVENT
UID:242618mb
DTSTAMP:20260420T124551Z
DTSTART:20260523T180000Z
DTEND:20260523T194800Z
LOCATION: Your Desk
SUMMARY: Sampling - Avoiding Common Mistakes on Financial Statement and Compliance Audits WEBCAST
DESCRIPTION: Sampling is an important method for determining the extent of testing controls\, testing compliance\, and tests of substantive details. It allows the auditor to apply procedures to less than 100% of the population yet extend results to project likely conclusions about the entire population. This module will describe the proper process for both attribute testing and variable sampling in financial statement and compliance audits.
CLASS:PUBLIC
END:VEVENT
END:VCALENDAR
