BEGIN:VCALENDAR
VERSION:2.0
PRODID:
BEGIN:VEVENT
UID:242619mb
DTSTAMP:20260420T113214Z
DTSTART:20260526T130000Z
DTEND:20260526T170000Z
LOCATION: Your Desk
SUMMARY: K2's Technology Update WEBCAST
DESCRIPTION: Which technology trends will impact you and your business? What emerging technologies will potentially help you to address security and efficiency? How will the emergence of Windows 11 affect you? Should you consider subscription-based software? What does the future of communication technology have in store for you? Get answers to these and other questions by participating in this course.
CLASS:PUBLIC
END:VEVENT
END:VCALENDAR
