BEGIN:VCALENDAR
VERSION:2.0
PRODID:
BEGIN:VEVENT
UID:242621mb
DTSTAMP:20260420T113721Z
DTSTART:20260526T163000Z
DTEND:20260526T181800Z
LOCATION: Your Desk
SUMMARY: State Tax Nexus: Frequently Awkward Questions WEBCAST
DESCRIPTION: Award winning discussion leader Mark Hugh discusses both nexus basics and new developments in the dynamic\, ever changing world of state income and sales tax nexus. This valuable course answers your frequently asked questions\, reviews key factors in examining potential nexus consequences\, takes a tour through the rules in states comprising 50% of the US\, and identifies free\, online multistate resources.
CLASS:PUBLIC
END:VEVENT
END:VCALENDAR
