BEGIN:VCALENDAR
VERSION:2.0
PRODID:
BEGIN:VEVENT
UID:242623mb
DTSTAMP:20260420T113701Z
DTSTART:20260526T190000Z
DTEND:20260526T210000Z
LOCATION: Your Desk
SUMMARY: Communicating in a Virtual and Live Environment - Numbers Matter But So Do Words WEBCAST
DESCRIPTION: People fear presenting more than they do death. Communicating numbers is a scary proposition to overcome for both the presenter and the recipients. This course is designed to enhance the communication skills of CPAs and CFOs by emphasizing the importance of understanding and mastering the facts before delivering any presentation\, understand the key elements of presenting a narrative\, and provide examples to engage live and virtual teams in effective numbers presenting. The goal is to equip financial professionals with the tools needed to overcome fears and provide the best practices research on all types of presentations-from communicating complex financial information effectively to conducting a casual virtual meeting. This is a fun session intended to be interactive with participation either live\, virtual or both. \n  \nNOTE: This course is not applicable for the Season Ticket\n 
CLASS:PUBLIC
END:VEVENT
END:VCALENDAR
