BEGIN:VCALENDAR
VERSION:2.0
PRODID:
BEGIN:VEVENT
UID:242625mb
DTSTAMP:20260420T113317Z
DTSTART:20260527T140000Z
DTEND:20260527T154100Z
LOCATION: Your Desk
SUMMARY: Powerful Public Speaking WEBCAST
DESCRIPTION: How you say what you say is more important than what you say. According to a UCLA study\, 93% of a communicator's effectiveness is based on non-verbal cues. This foundational program includes a focus on the verbal\, vocal and visual delivery techniques appropriate for the business environment\, which can improve a speaker's credibility\, influence and impact.
CLASS:PUBLIC
END:VEVENT
END:VCALENDAR
