BEGIN:VCALENDAR
VERSION:2.0
PRODID:
BEGIN:VEVENT
UID:242848jrl
DTSTAMP:20260421T075000Z
DTSTART:20260507T150000Z
DTEND:20260507T183000Z
LOCATION: Your Desk
SUMMARY: Accounting Analysis Basics WEBCAST
DESCRIPTION: Develop financial reporting expertise to conduct an accounting analysis and detect distortions in financial statements. Accounting savvy permits the business analyst to leverage financial information to manage and implement business plans. Gain the tools necessary to become skilled at such analyses. Review the impact of financial and accounting data on the function of capital markets in relation to the changing economic landscape and globalization.
CLASS:PUBLIC
END:VEVENT
END:VCALENDAR
