BEGIN:VCALENDAR
VERSION:2.0
PRODID:
BEGIN:VEVENT
UID:242850jrl
DTSTAMP:20260421T075133Z
DTSTART:20260508T170000Z
DTEND:20260508T190000Z
LOCATION: Your Desk
SUMMARY: K2's Excel’s Best Practices and Features WEBCAST
DESCRIPTION: Excel remains a staple tool for virtually all accounting and financial professionals. In this session\, learn about many of the newer features in Excel\, along with some you may have overlooked in the past.
CLASS:PUBLIC
END:VEVENT
END:VCALENDAR
