BEGIN:VCALENDAR
VERSION:2.0
PRODID:
BEGIN:VEVENT
UID:242851jrl
DTSTAMP:20260420T203203Z
DTSTART:20260511T170000Z
DTEND:20260511T190000Z
LOCATION: Your Desk
SUMMARY: K2's The Best Kept Secrets Of Microsoft 365 WEBCAST
DESCRIPTION: Microsoft 365 offers more than just Excel\, Outlook\, Word\, and PowerPoint! Participate in this session to learn about the best-kept secrets in your Microsoft 365 subscription and how they can improve personal and team productivity and security.
CLASS:PUBLIC
END:VEVENT
END:VCALENDAR
