BEGIN:VCALENDAR
VERSION:2.0
PRODID:
BEGIN:VEVENT
UID:242853jrl
DTSTAMP:20260421T171227Z
DTSTART:20260512T150000Z
DTEND:20260512T183000Z
LOCATION: Your Desk
SUMMARY: K2's Artificial Intelligence for Accounting and Finance Professionals WEBCAST
DESCRIPTION: From simple applications\, such as spam filtering\, to more advanced issues like fraud detection\, AI continues to move into the mainstream. In this session\, you will learn about different forms of AI and practical business applications of this emerging tool.
CLASS:PUBLIC
END:VEVENT
END:VCALENDAR
