BEGIN:VCALENDAR
VERSION:2.0
PRODID:
BEGIN:VEVENT
UID:242854jrl
DTSTAMP:20260422T193817Z
DTSTART:20260513T150000Z
DTEND:20260513T223000Z
LOCATION: Your Desk
SUMMARY: K2's Business Intelligence with Microsoft Power BI Tools WEBCAST
DESCRIPTION: Business intelligence efforts continue to grow\, and Microsoft’s Power BI platform is central to many of these efforts. Participate in this session to learn more about business intelligence and how to create dashboards using Power BI.
CLASS:PUBLIC
END:VEVENT
END:VCALENDAR
