BEGIN:VCALENDAR
VERSION:2.0
PRODID:
BEGIN:VEVENT
UID:242863jrl
DTSTAMP:20260420T113645Z
DTSTART:20260522T200000Z
DTEND:20260522T210000Z
LOCATION: Your Desk
SUMMARY: K2's What’s New With QuickBooks WEBCAST
DESCRIPTION: The entire QuickBooks product family continues to evolve at a very rapid rate. Participate in this session to learn about the significant changes affecting QuickBooks Desktop\, Online\, and Enterprise Solutions users.
CLASS:PUBLIC
END:VEVENT
END:VCALENDAR
