BEGIN:VCALENDAR
VERSION:2.0
PRODID:
BEGIN:VEVENT
UID:243129imp
DTSTAMP:20260421T081728Z
DTSTART:20270204T160000Z
DTEND:20270204T233000Z
LOCATION: Your Desk
SUMMARY: Accounting Industry Update WEBCAST
DESCRIPTION: Stay current on recent changes in accounting and auditing. Review FASB\, SEC\, PCC\, PCAOB\, and AICPA standard-setting activity in the current year. Implementation dates will be provided so you can plan for changes\, and the course will highlight the changes that will be implemented in the current year. Also\, we'll discuss the difference between public and private company requirements.
CLASS:PUBLIC
END:VEVENT
END:VCALENDAR
