BEGIN:VCALENDAR
VERSION:2.0
PRODID:
BEGIN:VEVENT
UID:243340jrl
DTSTAMP:20260421T195500Z
DTSTART:20260921T125500Z
DTEND:20260921T215500Z
LOCATION: Your Desk
SUMMARY: Artificial Intelligence Conference WEBINAR - Partnered with CPA Crossings
DESCRIPTION: Join leading CPAs and innovators to explore how generative AI and autonomous agents are redefining auditing\, risk management\, and client advisory.
CLASS:PUBLIC
END:VEVENT
END:VCALENDAR
